Workbook

Sheet Guidance
B5: Note: The template is based on a quality/cost score of 70/30 this weighting must remain unchanged in order for the process to remain OJEU compliant. Within the quality scoring it is structured to MCC specific requirements of 40% Quality, 20 % Social Value and 10% Low Carbon.
B7: 1. On the Summary worksheet please insert the job title (Cell B2), contractors name (Cell C8, E8...) and scoring panel members (Cell D37, D38, D39 ). The information will automatically populate the other worksheets.
B9: 2. The weightings on each question should be entered on the Summary worksheet (Cell O10, O11,.....). These weightings are the proportion of the 40% quality score you are allocating to each question within the quality section - the weightings should add up to 100%
B11: 3. On the Weighted Quality Scores worksheet the weighted scores will populate automatically from each contractor's quality score worksheet. The scores do multiply up to very large numbers as an easy way to reflect the weightings however the Weighted Quality sheet normalises the scores so that the highest scoring contractor gets 40 and then those lowere scoring get a proportion of 40 depending on how well they scored vs. the highest scoring contractor. This effectively annonomises the scoring and prevents back solving of who scored what for the questions.
B13: 4. On the Weighted Commercial Scores worksheet the percentage difference between the lowest and each other contractor is calculated automatically. The lowest commercial figure receives the highest commercial score.
B15: 5. The form will not complete until post-clarification interview scores are entered. If no interview takes place then the basic scores need to be copied into the post interview column.
B17: 6. A minimum of basic feedback (see tab) should be given by the Client on all schemes.
B20: 7. Constructive face-to-face feedback has particular value to Contractors as it helps inform their future tendering activity.
B22: 8. All feedback is given on a 'without prejudice' basis, this should be clearly stated at the beginning of any feedback exercise. The focus should be on improvement for future submissions e.g. ''a better score for this answer would have included.....''
B24: 9. This workbook is now unprotected - please ensure that you check your calculations.
B26: 10. This workbook is now unprotected and carries a number of inter related cells and calculations. It is worth doing a full mock scoring exercise using dummy data once you have adapted it for your exercise this will throw up any errors in formatting etc.

Sheet Feedback (Detailed)
A1: Sample NWCH Mini-Competition tender feedback
A3: Section | B3: Summary | C3: Max score | D3: Your Score | E3: Winning score
B4: Commercial Score
A5: 0 | B5: Commercial | C5: 30 | D5: 20 | E5: 24
B7: Quality Score
A8: 1 | B8: The existing site is accessed from Warmingham Road and it will be shared with the school for the duration of the works. Access to the rear field is alongside the existing mobile via a narrow opening. Please demonstrate how you propose to undertake this given that the school will require continued access to the main building and mobiles at all times of day. Please demonstrate an awareness of the existing school (PRU) and its students and outline your proposals for setting up the site, managing security, health and safety, communications, etc. whilst maintaining operational school premises throughout the project. (max 4 sides) | C8: 20 | D8: 12 | E8: 16
A9: 2 | B9: Identify the key personnel that will be involved in the project along with their roles and responsibilities, which should emphasise how and why their previous experience would be of particular benefit to this project. (max 4 sides) | C9: 20 | D9: 12 | E9: 10
A10: 3 | B10: Describe how you will use this project to maximise positive outcomes with regard to social value with particular regard to the pupils in the school and the wider community. (max 2 sides) | C10: 15 | D10: 9 | E10: 12
A11: 4 | B11: Demonstrate your management approach in ensuring that all functionality, design and specification issues, and budget constraints are developed in harmony, and within the clients requirements and aspirations. Use evidence to support your answer where appropriate from previous project experience / successes (max 2 sides) | C11: 15 | D11: 7.5 | E11: 10.5
A12: 5 | B12: The cost plan attached is based on the current estimates for the project. Please submit your high-level comments/observations regarding robustness of these figures. | C12: 0 | D12: 0 | E12: 0
B13: Quality Score Totals | C13: 100 | D13: 60.5 | E13: 72.5
A15: The highest score for the successful tender was 72.5. The successful tenderer is ABC Building Ltd. The following feedback is in relation to your submission;
A17: Scoring feedback should detail the contractor’s score versus the winning score.
A19: Quality - You scored 60.5 marks out of 100 Marks available
A21: Feedback:
A22: Text narrative should contain one or two paragraphs on each question / response. This should detail what made the winning response score higher than the contractor’s response, highlighting strengths and weaknesses.
A24: Q1: Good response overall with some thought given to external stakeholders and the school users. Lacks detail on communication protocols. Winning response detailed a Third Party Communications Plan to engage residents, parents, staff and students.
A26: Q2: Good response generally but only minor evidence / experience given. Good responses included client testimonials to support project experience.
A28: Q3: Satisfactory response with generic Social Value Plan. The winning response named all stakeholders and included a programme for interaction in both preconstruction and construction.
A30: Q4: Acceptable answer but lacking in project specific detail – more high-level processes and practices seemed fairly generic. The winning response included a small programme and design team organogram to support the process.
A32: Q5: Not scored
A34: Scoring matrix:
A36: Score | B36: Scoring Principles
A38: 0 | B38: Rejected - Evidence is unacceptable or non-existent, or there is a failure to properly address any issues.
A39: 1-4 | B39: Poor – The evidence is deficient in certain areas where the lack of detail or information requires the reviewer to make assumptions.
A40: 5-6 | B40: Satisfactory –The evidence is acceptable, but with some minor reservations.
A41: 7-8 | B41: Good – The standard of evidence meets expectations with some evidence provided.
A42: 9-10 | B42: Excellent – Comprehensively meet requirements with high quality and substantial amounts of evidence and information provided.

Sheet Summary
B2: INSERT PROJECT NAME HERE
B4: Scoring Matrix Summary
B7: Questions | C7: BID 1 | E7: BID 2 | G7: BID 3 | I7: BID 4 | K7: BID 5 | M7: BID 6
B8: NAME OF BIDDER | C8: 1 | E8: 2 | G8: 3 | I8: 4 | K8: 5 | M8: 6
B9: QUALITY - 40% | D9: Post Interview | F9: Post Interview | H9: Post Interview | J9: Post Interview | L9: Post Interview | N9: Post Interview | O9: Weighting
B10: Question 1 - ? | C10: ='BID 1'!$J$9 -> 60 | D10: ='BID 1'!$K$9 -> 60 | E10: ='BID 2'!$J$9 -> 70 | F10: ='BID 2'!$K$9 -> 70 | G10: ='BID 3'!$J$9 -> 30 | H10: ='BID 3'!$K$9 -> 30 | I10: ='BID 4'!$J$9 -> 40 | J10: ='BID 4'!$K$9 -> 40 | K10: ='BID 5'!$J$9 -> 50 | L10: ='BID 5'!$K$9 -> 50 | M10: ='BID 6'!$J$9 -> 60 | N10: ='BID 6'!$K$9 -> 60 | O10: 10
B11: Question 2 - ? | C11: ='BID 1'!$J$10 -> 60 | D11: ='BID 1'!$K$10 -> 60 | E11: ='BID 2'!$J$10 -> 70 | F11: ='BID 2'!$K$10 -> 70 | G11: ='BID 3'!$J$10 -> 30 | H11: ='BID 3'!$K$10 -> 30 | I11: ='BID 4'!$J$10 -> 10 | J11: ='BID 4'!$K$10 -> 10 | K11: ='BID 5'!$J$10 -> 10 | L11: ='BID 5'!$K$10 -> 10 | M11: ='BID 6'!$J$10 -> 10 | N11: ='BID 6'!$K$10 -> 10 | O11: 10
B12: Question 3 - ? | C12: ='BID 1'!$J$11 -> 60 | D12: ='BID 1'!$K$11 -> 60 | E12: ='BID 2'!$J$11 -> 70 | F12: ='BID 2'!$K$11 -> 70 | G12: ='BID 3'!$J$11 -> 30 | H12: ='BID 3'!$K$11 -> 30 | I12: ='BID 4'!$J$11 -> 10 | J12: ='BID 4'!$K$11 -> 10 | K12: ='BID 5'!$J$11 -> 10 | L12: ='BID 5'!$K$11 -> 10 | M12: ='BID 6'!$J$11 -> 10 | N12: ='BID 6'!$K$11 -> 10 | O12: 10
B13: Question 4 - ? | C13: ='BID 1'!$J$12 -> 60 | D13: ='BID 1'!$K$12 -> 60 | E13: ='BID 2'!$J$12 -> 70 | F13: ='BID 2'!$K$12 -> 70 | G13: ='BID 3'!$J$12 -> 30 | H13: ='BID 3'!$K$12 -> 30 | I13: ='BID 4'!$J$12 -> 10 | J13: ='BID 4'!$K$12 -> 10 | K13: ='BID 5'!$J$12 -> 10 | L13: ='BID 5'!$K$12 -> 10 | M13: ='BID 6'!$J$12 -> 10 | N13: ='BID 6'!$K$12 -> 10 | O13: 10
B14: Question 5 - ? | C14: ='BID 1'!$J$13 -> 60 | D14: ='BID 1'!$K$13 -> 60 | E14: ='BID 2'!$J$13 -> 70 | F14: ='BID 2'!$K$13 -> 70 | G14: ='BID 3'!$J$13 -> 30 | H14: ='BID 3'!$K$13 -> 30 | I14: ='BID 4'!$J$13 -> 10 | J14: ='BID 4'!$K$13 -> 10 | K14: ='BID 5'!$J$13 -> 10 | L14: ='BID 5'!$K$13 -> 10 | M14: ='BID 6'!$J$13 -> 10 | N14: ='BID 6'!$K$13 -> 10 | O14: 10
B15: Question 6 - ? | C15: ='BID 1'!$J$14 -> 60 | D15: ='BID 1'!$K$14 -> 60 | E15: ='BID 2'!$J$14 -> 70 | F15: ='BID 2'!$K$14 -> 70 | G15: ='BID 3'!$J$14 -> 30 | H15: ='BID 3'!$K$14 -> 30 | I15: ='BID 4'!$J$14 -> 10 | J15: ='BID 4'!$K$14 -> 10 | K15: ='BID 5'!$J$14 -> 10 | L15: ='BID 5'!$K$14 -> 10 | M15: ='BID 6'!$J$14 -> 10 | N15: ='BID 6'!$K$14 -> 10 | O15: 10
B16: Question 7 - ? | C16: ='BID 1'!$J$15 -> 60 | D16: ='BID 1'!$K$15 -> 60 | E16: ='BID 2'!$J$15 -> 70 | F16: ='BID 2'!$K$15 -> 70 | G16: ='BID 3'!$J$15 -> 30 | H16: ='BID 3'!$K$15 -> 30 | I16: ='BID 4'!$J$15 -> 10 | J16: ='BID 4'!$K$15 -> 10 | K16: ='BID 5'!$J$15 -> 10 | L16: ='BID 5'!$K$15 -> 10 | M16: ='BID 6'!$J$15 -> 10 | N16: ='BID 6'!$K$15 -> 10 | O16: 10
B17: Question 8 - ? | C17: ='BID 1'!$J$16 -> 180 | D17: ='BID 1'!$K$16 -> 180 | E17: ='BID 2'!$J$16 -> 210 | F17: ='BID 2'!$K$16 -> 210 | G17: ='BID 3'!$J$16 -> 90 | H17: ='BID 3'!$K$16 -> 90 | I17: ='BID 4'!$J$16 -> 30 | J17: ='BID 4'!$K$16 -> 30 | K17: ='BID 5'!$J$16 -> 30 | L17: ='BID 5'!$K$16 -> 30 | M17: ='BID 6'!$J$16 -> 30 | N17: ='BID 6'!$K$16 -> 30 | O17: 30 | P17: =SUM(O10:O17) -> 100
B19: SOCIAL VALUE - 20%
B20: Question 6 - Social Value | C20: ='BID 1'!$J$19 -> 600 | D20: ='BID 1'!$K$19 -> 600 | E20: ='BID 2'!$J$19 -> 700 | F20: ='BID 2'!$K$19 -> 700 | G20: ='BID 3'!$J$19 -> 300 | H20: ='BID 3'!$K$19 -> 300 | I20: ='BID 4'!$J$19 -> 400 | J20: ='BID 4'!$K$19 -> 400 | K20: ='BID 5'!$J$19 -> 500 | L20: ='BID 5'!$K$19 -> 500 | M20: ='BID 6'!$J$19 -> 600 | N20: ='BID 6'!$K$19 -> 600 | O20: 100
B22: LOW CARBON - 10%
B23: Question 7 - Low Carbon | C23: ='BID 1'!$J$21 -> 600 | D23: ='BID 1'!$K$21 -> 600 | E23: ='BID 2'!$J$21 -> 700 | F23: ='BID 2'!$K$21 -> 700 | G23: ='BID 3'!$J$21 -> 300 | H23: ='BID 3'!$K$21 -> 300 | I23: ='BID 4'!$J$21 -> 400 | J23: ='BID 4'!$K$21 -> 400 | K23: ='BID 5'!$J$21 -> 500 | L23: ='BID 5'!$K$21 -> 500 | M23: ='BID 6'!$J$21 -> 600 | N23: ='BID 6'!$K$21 -> 600 | O23: 100
B26: Post Interview Normalised Quality Score | D26: =+'Weighted Qual Scores'!J6 -> 34.285714 | F26: =+'Weighted Qual Scores'!J7 -> 40 | H26: =+'Weighted Qual Scores'!J8 -> 17.142857 | J26: =+'Weighted Qual Scores'!J9 -> 7.4285714 | L26: =+'Weighted Qual Scores'!J10 -> 8 | N26: =+'Weighted Qual Scores'!J11 -> 8.5714286
B27: Post Interview Normalised Social Value Score | D27: =+'Weighted Qual Scores'!J17 -> 17.142857 | F27: =+'Weighted Qual Scores'!J18 -> 20 | H27: =+'Weighted Qual Scores'!J19 -> 8.5714286 | J27: =+'Weighted Qual Scores'!J20 -> 11.428571 | L27: =+'Weighted Qual Scores'!J21 -> 14.285714 | N27: =+'Weighted Qual Scores'!J22 -> 17.142857
B28: Post Interview Normalised Carbon Score | D28: =+'Weighted Qual Scores'!J28 -> 8.5714286 | F28: =+'Weighted Qual Scores'!J29 -> 10 | H28: =+'Weighted Qual Scores'!J30 -> 4.2857143 | J28: =+'Weighted Qual Scores'!J31 -> 5.7142857 | L28: =+'Weighted Qual Scores'!J32 -> 7.1428571 | N28: =+'Weighted Qual Scores'!J33 -> 8.5714286
C29: =SUM(D26:D28) -> 60 | E29: =SUM(F26:F28) -> 70 | G29: =SUM(H26:H28) -> 30 | I29: =SUM(J26:J28) -> 24.571429 | K29: =SUM(L26:L28) -> 29.428571 | M29: =SUM(N26:N28) -> 34.285714
B30: Normalised Commercial Score | D30: =+'Weighted Comm Scores'!I9 -> 30 | F30: ='Weighted Comm Scores'!I10 -> 23.181818 | H30: ='Weighted Comm Scores'!I11 -> 23.181818 | J30: ='Weighted Comm Scores'!I12 -> 23.181818 | L30: ='Weighted Comm Scores'!I13 -> 23.181818 | N30: ='Weighted Comm Scores'!I14 -> 26.842105
B32: Total Mini Competition Score | D32: =SUM(D26:D30) -> 90 | F32: =SUM(F26:F30) -> 93.181818 | H32: =SUM(H26:H30) -> 53.181818 | J32: =SUM(J26:J30) -> 47.753247 | L32: =SUM(L26:L30) -> 52.61039 | N32: =SUM(N26:N30) -> 61.12782
B35: Name - Signed | C35: Date | D35: Name - Printed | H35: Role
A37: 1 | D37: ASSESSOR 1
A38: 2 | D38: ASSESSOR 2
A39: 3 | D39: ASSESSOR 3

Sheet BID 1
B2: =Summary!B2 -> INSERT PROJECT NAME HERE
B4: =Summary!C7 -> BID 1 | C4: Name of Bidder | E4: =+Summary!C8 -> 1
N5: Individual comments on scorng
H6: Post Interview Revised Scores | J6: Weighted Scores
B7: Questions | C7: =+Summary!D37 -> ASSESSOR 1 | D7: =+Summary!D38 -> ASSESSOR 2 | E7: =+Summary!D39 -> ASSESSOR 3 | F7: Average Score | G7: Moderation / adjustment commments | H7: Revised Average Score | I7: Comments if Revised Average Score is different from Average Score | J7: Average Score Adjusted for Weighting | K7: Revised Average Score Adjusted for Weighting | L7: Weighting | N7: =+C7 -> ASSESSOR 1 | O7: =+D7 -> ASSESSOR 2 | P7: =+E7 -> ASSESSOR 3
B8: =+Summary!B9 -> QUALITY - 40%
B9: =Summary!B10 -> Question 1 - ? | C9: 6 | F9: =AVERAGE(C9:E9) -> 6 | H9: =+F9 -> 6 | J9: =+F9*L9 -> 60 | K9: =+H9*L9 -> 60 | L9: =+Summary!O10 -> 10
B10: =Summary!B11 -> Question 2 - ? | C10: 6 | F10: =AVERAGE(C10:E10) -> 6 | H10: =+F10 -> 6 | J10: =+F10*L10 -> 60 | K10: =+H10*L10 -> 60 | L10: =+Summary!O11 -> 10
B11: =Summary!B12 -> Question 3 - ? | C11: 6 | F11: =AVERAGE(C11:E11) -> 6 | H11: =+F11 -> 6 | J11: =+F11*L11 -> 60 | K11: =+H11*L11 -> 60 | L11: =+Summary!O12 -> 10
B12: =Summary!B13 -> Question 4 - ? | C12: 6 | F12: =AVERAGE(C12:E12) -> 6 | H12: =+F12 -> 6 | J12: =+F12*L12 -> 60 | K12: =+H12*L12 -> 60 | L12: =+Summary!O13 -> 10
B13: =Summary!B14 -> Question 5 - ? | C13: 6 | F13: =AVERAGE(C13:E13) -> 6 | H13: =+F13 -> 6 | J13: =+F13*L13 -> 60 | K13: =+H13*L13 -> 60 | L13: =+Summary!O14 -> 10
B14: =Summary!B15 -> Question 6 - ? | C14: 6 | F14: =AVERAGE(C14:E14) -> 6 | H14: =+F14 -> 6 | J14: =+F14*L14 -> 60 | K14: =+H14*L14 -> 60 | L14: =+Summary!O15 -> 10
B15: =Summary!B16 -> Question 7 - ? | C15: 6 | F15: =AVERAGE(C15:E15) -> 6 | H15: =+F15 -> 6 | J15: =+F15*L15 -> 60 | K15: =+H15*L15 -> 60 | L15: =+Summary!O16 -> 10
B16: =Summary!B17 -> Question 8 - ? | C16: 6 | F16: =AVERAGE(C16:E16) -> 6 | H16: =+F16 -> 6 | J16: =+F16*L16 -> 180 | K16: =+H16*L16 -> 180 | L16: =+Summary!O17 -> 30 | M16: =SUM(L9:L16) -> 100
I17: TOTAL of QUALITY SCORE | J17: =SUM(J9:J16) -> 600 | K17: =SUM(K9:K16) -> 600
B18: =+Summary!B19 -> SOCIAL VALUE - 20%
B19: =Summary!B20 -> Question 6 - Social Value | C19: 6 | F19: =AVERAGE(C19:E19) -> 6 | H19: =+F19 -> 6 | J19: =+F19*L19 -> 600 | K19: =+H19*L19 -> 600 | L19: =Summary!O20 -> 100
B20: =+Summary!B22 -> LOW CARBON - 10%
B21: =Summary!B23 -> Question 7 - Low Carbon | C21: 6 | F21: =AVERAGE(C21:E21) -> 6 | H21: =+F21 -> 6 | J21: =+F21*L21 -> 600 | K21: =+H21*L21 -> 600 | L21: =Summary!O23 -> 100

Sheet BID 2
B2: =Summary!B2 -> INSERT PROJECT NAME HERE
B4: =Summary!E7 -> BID 2 | C4: Name of Bidder | E4: =+Summary!E8 -> 2
N5: Individual comments on scorng
H6: Post Interview Revised Scores | J6: Weighted Scores
B7: Questions | C7: =+'BID 1'!C7 -> ASSESSOR 1 | D7: =+'BID 1'!D7 -> ASSESSOR 2 | E7: =+'BID 1'!E7 -> ASSESSOR 3 | F7: Average Score | G7: Moderation / adjustment commments | H7: Revised Average Score | I7: Comments if Revised Average Score is different from Average Score | J7: Average Score Adjusted for Weighting | K7: Revised Average Score Adjusted for Weighting | L7: Weighting | N7: =+C7 -> ASSESSOR 1 | O7: =+D7 -> ASSESSOR 2 | P7: =+E7 -> ASSESSOR 3
B8: =+Summary!B9 -> QUALITY - 40%
B9: =Summary!B10 -> Question 1 - ? | C9: 7 | F9: =AVERAGE(C9:E9) -> 7 | H9: =+F9 -> 7 | J9: =+F9*L9 -> 70 | K9: =+H9*L9 -> 70 | L9: =+Summary!O10 -> 10
B10: =Summary!B11 -> Question 2 - ? | C10: 7 | F10: =AVERAGE(C10:E10) -> 7 | H10: =+F10 -> 7 | J10: =+F10*L10 -> 70 | K10: =+H10*L10 -> 70 | L10: =+Summary!O11 -> 10
B11: =Summary!B12 -> Question 3 - ? | C11: 7 | F11: =AVERAGE(C11:E11) -> 7 | H11: =+F11 -> 7 | J11: =+F11*L11 -> 70 | K11: =+H11*L11 -> 70 | L11: =+Summary!O12 -> 10
B12: =Summary!B13 -> Question 4 - ? | C12: 7 | F12: =AVERAGE(C12:E12) -> 7 | H12: =+F12 -> 7 | J12: =+F12*L12 -> 70 | K12: =+H12*L12 -> 70 | L12: =+Summary!O13 -> 10
B13: =Summary!B14 -> Question 5 - ? | C13: 7 | F13: =AVERAGE(C13:E13) -> 7 | H13: =+F13 -> 7 | J13: =+F13*L13 -> 70 | K13: =+H13*L13 -> 70 | L13: =+Summary!O14 -> 10
B14: =Summary!B15 -> Question 6 - ? | C14: 7 | F14: =AVERAGE(C14:E14) -> 7 | H14: =+F14 -> 7 | J14: =+F14*L14 -> 70 | K14: =+H14*L14 -> 70 | L14: =+Summary!O15 -> 10
B15: =Summary!B16 -> Question 7 - ? | C15: 7 | F15: =AVERAGE(C15:E15) -> 7 | H15: =+F15 -> 7 | J15: =+F15*L15 -> 70 | K15: =+H15*L15 -> 70 | L15: =+Summary!O16 -> 10
B16: =Summary!B17 -> Question 8 - ? | C16: 7 | F16: =AVERAGE(C16:E16) -> 7 | H16: =+F16 -> 7 | J16: =+F16*L16 -> 210 | K16: =+H16*L16 -> 210 | L16: =+Summary!O17 -> 30 | M16: =SUM(L9:L16) -> 100
I17: TOTAL of QUALITY SCORE | J17: =SUM(J9:J16) -> 700 | K17: =SUM(K9:K16) -> 700
B18: =+Summary!B19 -> SOCIAL VALUE - 20% | C18: 0.2
B19: =Summary!B20 -> Question 6 - Social Value | C19: 7 | F19: =AVERAGE(C19:E19) -> 7 | H19: =+F19 -> 7 | J19: =+F19*L19 -> 700 | K19: =+H19*L19 -> 700 | L19: =Summary!O20 -> 100
B20: =+Summary!B22 -> LOW CARBON - 10% | C20: 0.1
B21: =Summary!B23 -> Question 7 - Low Carbon | C21: 7 | F21: =AVERAGE(C21:E21) -> 7 | H21: =+F21 -> 7 | J21: =+F21*L21 -> 700 | K21: =+H21*L21 -> 700 | L21: =Summary!O23 -> 100

Sheet BID 3
B2: =Summary!B2 -> INSERT PROJECT NAME HERE
B4: =Summary!G7 -> BID 3 | C4: Name of Bidder | E4: =+Summary!G8 -> 3
N5: Individual comments on scorng
H6: Post Interview Revised Scores | J6: Weighted Scores
B7: Questions | C7: =+'BID 1'!C7 -> ASSESSOR 1 | D7: =+'BID 1'!D7 -> ASSESSOR 2 | E7: =+'BID 1'!E7 -> ASSESSOR 3 | F7: Average Score | G7: Moderation / adjustment commments | H7: Revised Average Score | I7: Comments if Revised Average Score is different from Average Score | J7: Average Score Adjusted for Weighting | K7: Revised Average Score Adjusted for Weighting | L7: Weighting | N7: =+C7 -> ASSESSOR 1 | O7: =+D7 -> ASSESSOR 2 | P7: =+E7 -> ASSESSOR 3
B8: =+Summary!B9 -> QUALITY - 40%
B9: =Summary!B10 -> Question 1 - ? | C9: 3 | F9: =AVERAGE(C9:E9) -> 3 | H9: =+F9 -> 3 | J9: =+F9*L9 -> 30 | K9: =+H9*L9 -> 30 | L9: =+Summary!O10 -> 10
B10: =Summary!B11 -> Question 2 - ? | C10: 3 | F10: =AVERAGE(C10:E10) -> 3 | H10: =+F10 -> 3 | J10: =+F10*L10 -> 30 | K10: =+H10*L10 -> 30 | L10: =+Summary!O11 -> 10
B11: =Summary!B12 -> Question 3 - ? | C11: 3 | F11: =AVERAGE(C11:E11) -> 3 | H11: =+F11 -> 3 | J11: =+F11*L11 -> 30 | K11: =+H11*L11 -> 30 | L11: =+Summary!O12 -> 10
B12: =Summary!B13 -> Question 4 - ? | C12: 3 | F12: =AVERAGE(C12:E12) -> 3 | H12: =+F12 -> 3 | J12: =+F12*L12 -> 30 | K12: =+H12*L12 -> 30 | L12: =+Summary!O13 -> 10
B13: =Summary!B14 -> Question 5 - ? | C13: 3 | F13: =AVERAGE(C13:E13) -> 3 | H13: =+F13 -> 3 | J13: =+F13*L13 -> 30 | K13: =+H13*L13 -> 30 | L13: =+Summary!O14 -> 10
B14: =Summary!B15 -> Question 6 - ? | C14: 3 | F14: =AVERAGE(C14:E14) -> 3 | H14: =+F14 -> 3 | J14: =+F14*L14 -> 30 | K14: =+H14*L14 -> 30 | L14: =+Summary!O15 -> 10
B15: =Summary!B16 -> Question 7 - ? | C15: 3 | F15: =AVERAGE(C15:E15) -> 3 | H15: =+F15 -> 3 | J15: =+F15*L15 -> 30 | K15: =+H15*L15 -> 30 | L15: =+Summary!O16 -> 10
B16: =Summary!B17 -> Question 8 - ? | C16: 3 | F16: =AVERAGE(C16:E16) -> 3 | H16: =+F16 -> 3 | J16: =+F16*L16 -> 90 | K16: =+H16*L16 -> 90 | L16: =+Summary!O17 -> 30 | M16: =SUM(L9:L16) -> 100
I17: TOTAL of QUALITY SCORE | J17: =SUM(J9:J16) -> 300 | K17: =SUM(K9:K16) -> 300
B18: =+Summary!B19 -> SOCIAL VALUE - 20% | C18: 0.2
B19: =Summary!B20 -> Question 6 - Social Value | C19: 3 | F19: =AVERAGE(C19:E19) -> 3 | H19: =+F19 -> 3 | J19: =+F19*L19 -> 300 | K19: =+H19*L19 -> 300 | L19: =Summary!O20 -> 100
B20: =+Summary!B22 -> LOW CARBON - 10% | C20: 0.1
B21: =Summary!B23 -> Question 7 - Low Carbon | C21: 3 | F21: =AVERAGE(C21:E21) -> 3 | H21: =+F21 -> 3 | J21: =+F21*L21 -> 300 | K21: =+H21*L21 -> 300 | L21: =Summary!O23 -> 100

Sheet BID 4
B2: =Summary!B2 -> INSERT PROJECT NAME HERE
B4: =Summary!I7 -> BID 4 | C4: Name of Bidder | E4: =+Summary!I8 -> 4
N5: Individual comments on scorng
H6: Post Interview Revised Scores | J6: Weighted Scores
B7: Questions | C7: =+'BID 1'!C7 -> ASSESSOR 1 | D7: =+'BID 1'!D7 -> ASSESSOR 2 | E7: =+'BID 1'!E7 -> ASSESSOR 3 | F7: Average Score | G7: Moderation / adjustment commments | H7: Revised Average Score | I7: Comments if Revised Average Score is different from Average Score | J7: Average Score Adjusted for Weighting | K7: Revised Average Score Adjusted for Weighting | L7: Weighting | N7: =+C7 -> ASSESSOR 1 | O7: =+D7 -> ASSESSOR 2 | P7: =+E7 -> ASSESSOR 3
B8: =+Summary!B9 -> QUALITY - 40%
B9: =Summary!B10 -> Question 1 - ? | C9: 4 | F9: =AVERAGE(C9:E9) -> 4 | H9: =+F9 -> 4 | J9: =+F9*L9 -> 40 | K9: =+H9*L9 -> 40 | L9: =+Summary!O10 -> 10
B10: =Summary!B11 -> Question 2 - ? | C10: 1 | F10: =AVERAGE(C10:E10) -> 1 | H10: =+F10 -> 1 | J10: =+F10*L10 -> 10 | K10: =+H10*L10 -> 10 | L10: =+Summary!O11 -> 10
B11: =Summary!B12 -> Question 3 - ? | C11: 1 | F11: =AVERAGE(C11:E11) -> 1 | H11: =+F11 -> 1 | J11: =+F11*L11 -> 10 | K11: =+H11*L11 -> 10 | L11: =+Summary!O12 -> 10
B12: =Summary!B13 -> Question 4 - ? | C12: 1 | F12: =AVERAGE(C12:E12) -> 1 | H12: =+F12 -> 1 | J12: =+F12*L12 -> 10 | K12: =+H12*L12 -> 10 | L12: =+Summary!O13 -> 10
B13: =Summary!B14 -> Question 5 - ? | C13: 1 | F13: =AVERAGE(C13:E13) -> 1 | H13: =+F13 -> 1 | J13: =+F13*L13 -> 10 | K13: =+H13*L13 -> 10 | L13: =+Summary!O14 -> 10
B14: =Summary!B15 -> Question 6 - ? | C14: 1 | F14: =AVERAGE(C14:E14) -> 1 | H14: =+F14 -> 1 | J14: =+F14*L14 -> 10 | K14: =+H14*L14 -> 10 | L14: =+Summary!O15 -> 10
B15: =Summary!B16 -> Question 7 - ? | C15: 1 | F15: =AVERAGE(C15:E15) -> 1 | H15: =+F15 -> 1 | J15: =+F15*L15 -> 10 | K15: =+H15*L15 -> 10 | L15: =+Summary!O16 -> 10
B16: =Summary!B17 -> Question 8 - ? | C16: 1 | F16: =AVERAGE(C16:E16) -> 1 | H16: =+F16 -> 1 | J16: =+F16*L16 -> 30 | K16: =+H16*L16 -> 30 | L16: =+Summary!O17 -> 30 | M16: =SUM(L9:L16) -> 100
I17: TOTAL of QUALITY SCORE | J17: =SUM(J9:J16) -> 130 | K17: =SUM(K9:K16) -> 130
B18: =+Summary!B19 -> SOCIAL VALUE - 20%
B19: =Summary!B20 -> Question 6 - Social Value | C19: 4 | F19: =AVERAGE(C19:E19) -> 4 | H19: =+F19 -> 4 | J19: =+F19*L19 -> 400 | K19: =+H19*L19 -> 400 | L19: =Summary!O20 -> 100
B20: =+Summary!B22 -> LOW CARBON - 10%
B21: =Summary!B23 -> Question 7 - Low Carbon | C21: 4 | F21: =AVERAGE(C21:E21) -> 4 | H21: =+F21 -> 4 | J21: =+F21*L21 -> 400 | K21: =+H21*L21 -> 400 | L21: =Summary!O23 -> 100

Sheet BID 5
B2: =Summary!B2 -> INSERT PROJECT NAME HERE
B4: =Summary!K7 -> BID 5 | C4: Name of Bidder | E4: =+Summary!K8 -> 5
N5: Individual comments on scorng
H6: Post Interview Revised Scores | J6: Weighted Scores
B7: Questions | C7: =+'BID 1'!C7 -> ASSESSOR 1 | D7: =+'BID 1'!D7 -> ASSESSOR 2 | E7: =+'BID 1'!E7 -> ASSESSOR 3 | F7: Average Score | G7: Moderation / adjustment commments | H7: Revised Average Score | I7: Comments if Revised Average Score is different from Average Score | J7: Average Score Adjusted for Weighting | K7: Revised Average Score Adjusted for Weighting | L7: Weighting | N7: =+C7 -> ASSESSOR 1 | O7: =+D7 -> ASSESSOR 2 | P7: =+E7 -> ASSESSOR 3
B8: =+Summary!B9 -> QUALITY - 40%
B9: =Summary!B10 -> Question 1 - ? | C9: 5 | F9: =AVERAGE(C9:E9) -> 5 | H9: =+F9 -> 5 | J9: =+F9*L9 -> 50 | K9: =+H9*L9 -> 50 | L9: =+Summary!O10 -> 10
B10: =Summary!B11 -> Question 2 - ? | C10: 1 | F10: =AVERAGE(C10:E10) -> 1 | H10: =+F10 -> 1 | J10: =+F10*L10 -> 10 | K10: =+H10*L10 -> 10 | L10: =+Summary!O11 -> 10
B11: =Summary!B12 -> Question 3 - ? | C11: 1 | F11: =AVERAGE(C11:E11) -> 1 | H11: =+F11 -> 1 | J11: =+F11*L11 -> 10 | K11: =+H11*L11 -> 10 | L11: =+Summary!O12 -> 10
B12: =Summary!B13 -> Question 4 - ? | C12: 1 | F12: =AVERAGE(C12:E12) -> 1 | H12: =+F12 -> 1 | J12: =+F12*L12 -> 10 | K12: =+H12*L12 -> 10 | L12: =+Summary!O13 -> 10
B13: =Summary!B14 -> Question 5 - ? | C13: 1 | F13: =AVERAGE(C13:E13) -> 1 | H13: =+F13 -> 1 | J13: =+F13*L13 -> 10 | K13: =+H13*L13 -> 10 | L13: =+Summary!O14 -> 10
B14: =Summary!B15 -> Question 6 - ? | C14: 1 | F14: =AVERAGE(C14:E14) -> 1 | H14: =+F14 -> 1 | J14: =+F14*L14 -> 10 | K14: =+H14*L14 -> 10 | L14: =+Summary!O15 -> 10
B15: =Summary!B16 -> Question 7 - ? | C15: 1 | F15: =AVERAGE(C15:E15) -> 1 | H15: =+F15 -> 1 | J15: =+F15*L15 -> 10 | K15: =+H15*L15 -> 10 | L15: =+Summary!O16 -> 10
B16: =Summary!B17 -> Question 8 - ? | C16: 1 | F16: =AVERAGE(C16:E16) -> 1 | H16: =+F16 -> 1 | J16: =+F16*L16 -> 30 | K16: =+H16*L16 -> 30 | L16: =+Summary!O17 -> 30 | M16: =SUM(L9:L16) -> 100
I17: TOTAL of QUALITY SCORE | J17: =SUM(J9:J16) -> 140 | K17: =SUM(K9:K16) -> 140
B18: =+Summary!B19 -> SOCIAL VALUE - 20%
B19: =Summary!B20 -> Question 6 - Social Value | C19: 5 | F19: =AVERAGE(C19:E19) -> 5 | H19: =+F19 -> 5 | J19: =+F19*L19 -> 500 | K19: =+H19*L19 -> 500 | L19: =Summary!O20 -> 100
B20: =+Summary!B22 -> LOW CARBON - 10%
B21: =Summary!B23 -> Question 7 - Low Carbon | C21: 5 | F21: =AVERAGE(C21:E21) -> 5 | H21: =+F21 -> 5 | J21: =+F21*L21 -> 500 | K21: =+H21*L21 -> 500 | L21: =Summary!O23 -> 100

Sheet BID 6
B2: =Summary!B2 -> INSERT PROJECT NAME HERE
B4: =Summary!M7 -> BID 6 | C4: Name of Bidder | E4: =+Summary!M8 -> 6
N5: Individual comments on scorng
H6: Post Interview Revised Scores | J6: Weighted Scores
B7: Questions | C7: =+'BID 1'!C7 -> ASSESSOR 1 | D7: =+'BID 1'!D7 -> ASSESSOR 2 | E7: =+'BID 1'!E7 -> ASSESSOR 3 | F7: Average Score | G7: Moderation / adjustment commments | H7: Revised Average Score | I7: Comments if Revised Average Score is different from Average Score | J7: Average Score Adjusted for Weighting | K7: Revised Average Score Adjusted for Weighting | L7: Weighting | N7: =+C7 -> ASSESSOR 1 | O7: =+D7 -> ASSESSOR 2 | P7: =+E7 -> ASSESSOR 3
B8: =+Summary!B9 -> QUALITY - 40%
B9: =Summary!B10 -> Question 1 - ? | C9: 6 | F9: =AVERAGE(C9:E9) -> 6 | H9: =+F9 -> 6 | J9: =+F9*L9 -> 60 | K9: =+H9*L9 -> 60 | L9: =+Summary!O10 -> 10
B10: =Summary!B11 -> Question 2 - ? | C10: 1 | F10: =AVERAGE(C10:E10) -> 1 | H10: =+F10 -> 1 | J10: =+F10*L10 -> 10 | K10: =+H10*L10 -> 10 | L10: =+Summary!O11 -> 10
B11: =Summary!B12 -> Question 3 - ? | C11: 1 | F11: =AVERAGE(C11:E11) -> 1 | H11: =+F11 -> 1 | J11: =+F11*L11 -> 10 | K11: =+H11*L11 -> 10 | L11: =+Summary!O12 -> 10
B12: =Summary!B13 -> Question 4 - ? | C12: 1 | F12: =AVERAGE(C12:E12) -> 1 | H12: =+F12 -> 1 | J12: =+F12*L12 -> 10 | K12: =+H12*L12 -> 10 | L12: =+Summary!O13 -> 10
B13: =Summary!B14 -> Question 5 - ? | C13: 1 | F13: =AVERAGE(C13:E13) -> 1 | H13: =+F13 -> 1 | J13: =+F13*L13 -> 10 | K13: =+H13*L13 -> 10 | L13: =+Summary!O14 -> 10
B14: =Summary!B15 -> Question 6 - ? | C14: 1 | F14: =AVERAGE(C14:E14) -> 1 | H14: =+F14 -> 1 | J14: =+F14*L14 -> 10 | K14: =+H14*L14 -> 10 | L14: =+Summary!O15 -> 10
B15: =Summary!B16 -> Question 7 - ? | C15: 1 | F15: =AVERAGE(C15:E15) -> 1 | H15: =+F15 -> 1 | J15: =+F15*L15 -> 10 | K15: =+H15*L15 -> 10 | L15: =+Summary!O16 -> 10
B16: =Summary!B17 -> Question 8 - ? | C16: 1 | F16: =AVERAGE(C16:E16) -> 1 | H16: =+F16 -> 1 | J16: =+F16*L16 -> 30 | K16: =+H16*L16 -> 30 | L16: =+Summary!O17 -> 30 | M16: =SUM(L9:L16) -> 100
I17: TOTAL of QUALITY SCORE | J17: =SUM(J9:J16) -> 150 | K17: =SUM(K9:K16) -> 150
B18: =+Summary!B19 -> SOCIAL VALUE - 20%
B19: =Summary!B20 -> Question 6 - Social Value | C19: 6 | F19: =AVERAGE(C19:E19) -> 6 | H19: =+F19 -> 6 | J19: =+F19*L19 -> 600 | K19: =+H19*L19 -> 600 | L19: =Summary!O20 -> 100
B20: =+Summary!B22 -> LOW CARBON - 10%
B21: =Summary!B23 -> Question 7 - Low Carbon | C21: 6 | F21: =AVERAGE(C21:E21) -> 6 | H21: =+F21 -> 6 | J21: =+F21*L21 -> 600 | K21: =+H21*L21 -> 600 | L21: =Summary!O23 -> 100

Sheet Weighted Qual Scores
B2: =Summary!B2 -> INSERT PROJECT NAME HERE
B4: Pre Interview Quality Scores Summary | D4: Weighted Score | E4: 40 | G4: Post Interview Quality Scores Summary | I4: Weighted Score | J4: =+E4 -> 40
B5: =+Summary!B9 -> QUALITY - 40% | G5: =+B5 -> QUALITY - 40%
B6: =Summary!C7 -> BID 1 | D6: =+'BID 1'!J17 -> 600 | E6: =SUM(D6/C$13)*E$4 -> 34.285714 | G6: =+B6 -> BID 1 | I6: =+'BID 1'!K17 -> 600 | J6: =SUM(I6/H$13)*J$4 -> 34.285714
B7: =Summary!E7 -> BID 2 | D7: =+'BID 2'!J17 -> 700 | E7: =SUM(D7/C$13)*E$4 -> 40 | G7: =+B7 -> BID 2 | I7: =+'BID 2'!K17 -> 700 | J7: =SUM(I7/H$13)*J$4 -> 40
B8: =Summary!G7 -> BID 3 | D8: =+'BID 3'!J17 -> 300 | E8: =SUM(D8/C$13)*E$4 -> 17.142857 | G8: =+B8 -> BID 3 | I8: =+'BID 3'!K17 -> 300 | J8: =SUM(I8/H$13)*J$4 -> 17.142857
B9: =Summary!I7 -> BID 4 | D9: =+'BID 4'!J17 -> 130 | E9: =SUM(D9/C$13)*E$4 -> 7.4285714 | G9: =+B9 -> BID 4 | I9: =+'BID 4'!K17 -> 130 | J9: =SUM(I9/H$13)*J$4 -> 7.4285714
B10: =Summary!K7 -> BID 5 | D10: =+'BID 5'!J17 -> 140 | E10: =SUM(D10/C$13)*E$4 -> 8 | G10: =+B10 -> BID 5 | I10: =+'BID 5'!K17 -> 140 | J10: =SUM(I10/H$13)*J$4 -> 8
B11: =Summary!M7 -> BID 6 | D11: =+'BID 6'!J17 -> 150 | E11: =SUM(D11/C$13)*E$4 -> 8.5714286 | G11: =+B11 -> BID 6 | I11: =+'BID 6'!K17 -> 150 | J11: =SUM(I11/H$13)*J$4 -> 8.5714286
B13: Highest Weighted Score | C13: =MAX(D6:D11) -> 700 | G13: Highest Weighted Score | H13: =MAX(I6:I11) -> 700
B15: Pre Interview Quality Scores Summary | D15: Weighted Score | E15: 20 | G15: Post Interview Quality Scores Summary | I15: Weighted Score | J15: =+E15 -> 20
B16: =+Summary!B19 -> SOCIAL VALUE - 20% | G16: =+B16 -> SOCIAL VALUE - 20%
B17: =Summary!C7 -> BID 1 | D17: =+'BID 1'!J19 -> 600 | E17: =SUM(D17/C$24)*E$15 -> 17.142857 | G17: =+B17 -> BID 1 | I17: =+'BID 1'!K19 -> 600 | J17: =SUM(I17/H$24)*J$15 -> 17.142857
B18: =Summary!E7 -> BID 2 | D18: =+'BID 2'!J19 -> 700 | E18: =SUM(D18/C$24)*E$15 -> 20 | G18: =+B18 -> BID 2 | I18: =+'BID 2'!K19 -> 700 | J18: =SUM(I18/H$24)*J$15 -> 20
B19: =Summary!G7 -> BID 3 | D19: =+'BID 3'!J19 -> 300 | E19: =SUM(D19/C$24)*E$15 -> 8.5714286 | G19: =+B19 -> BID 3 | I19: =+'BID 3'!K19 -> 300 | J19: =SUM(I19/H$24)*J$15 -> 8.5714286
B20: =Summary!I7 -> BID 4 | D20: =+'BID 4'!J19 -> 400 | E20: =SUM(D20/C$24)*E$15 -> 11.428571 | G20: =+B20 -> BID 4 | I20: =+'BID 4'!K19 -> 400 | J20: =SUM(I20/H$24)*J$15 -> 11.428571
B21: =Summary!K7 -> BID 5 | D21: =+'BID 5'!J19 -> 500 | E21: =SUM(D21/C$24)*E$15 -> 14.285714 | G21: =+B21 -> BID 5 | I21: =+'BID 5'!K19 -> 500 | J21: =SUM(I21/H$24)*J$15 -> 14.285714
B22: =Summary!M7 -> BID 6 | D22: =+'BID 6'!J19 -> 600 | E22: =SUM(D22/C$24)*E$15 -> 17.142857 | G22: =+B22 -> BID 6 | I22: =+'BID 6'!K19 -> 600 | J22: =SUM(I22/H$24)*J$15 -> 17.142857
B24: Highest Weighted Score | C24: =MAX(D17:D22) -> 700 | G24: Highest Weighted Score | H24: =MAX(I17:I22) -> 700
B26: Pre Interview Quality Scores Summary | D26: Weighted Score | E26: 10 | G26: Post Interview Quality Scores Summary | I26: Weighted Score | J26: =+E26 -> 10
B27: =+Summary!B22 -> LOW CARBON - 10% | G27: =+B27 -> LOW CARBON - 10%
B28: =Summary!C7 -> BID 1 | D28: =+'BID 1'!J21 -> 600 | E28: =SUM(D28/C$35)*E$26 -> 8.5714286 | G28: =+B28 -> BID 1 | I28: =+'BID 1'!K21 -> 600 | J28: =SUM(I28/H$35)*J$26 -> 8.5714286
B29: =Summary!E7 -> BID 2 | D29: =+'BID 2'!J21 -> 700 | E29: =SUM(D29/C$35)*E$26 -> 10 | G29: =+B29 -> BID 2 | I29: =+'BID 2'!K21 -> 700 | J29: =SUM(I29/H$35)*J$26 -> 10
B30: =Summary!G7 -> BID 3 | D30: =+'BID 3'!J21 -> 300 | E30: =SUM(D30/C$35)*E$26 -> 4.2857143 | G30: =+B30 -> BID 3 | I30: =+'BID 3'!K21 -> 300 | J30: =SUM(I30/H$35)*J$26 -> 4.2857143
B31: =Summary!I7 -> BID 4 | D31: =+'BID 4'!J21 -> 400 | E31: =SUM(D31/C$35)*E$26 -> 5.7142857 | G31: =+B31 -> BID 4 | I31: =+'BID 4'!K21 -> 400 | J31: =SUM(I31/H$35)*J$26 -> 5.7142857
B32: =Summary!K7 -> BID 5 | D32: =+'BID 5'!J21 -> 500 | E32: =SUM(D32/C$35)*E$26 -> 7.1428571 | G32: =+B32 -> BID 5 | I32: =+'BID 5'!K21 -> 500 | J32: =SUM(I32/H$35)*J$26 -> 7.1428571
B33: =Summary!M7 -> BID 6 | D33: =+'BID 6'!J21 -> 600 | E33: =SUM(D33/C$35)*E$26 -> 8.5714286 | G33: =+B33 -> BID 6 | I33: =+'BID 6'!K21 -> 600 | J33: =SUM(I33/H$35)*J$26 -> 8.5714286
B35: Highest Weighted Score | C35: =MAX(D28:D33) -> 700 | G35: Highest Weighted Score | H35: =MAX(I28:I33) -> 700

Sheet Weighted Comm Scores
B2: =Summary!B2 -> INSERT PROJECT NAME HERE
B4: Commercial Assessment Summary
E7: BALANCE | I7: Marks out of | J7: 30
B9: =Summary!C7 -> BID 1 | E9: 1700000 | I9: =+$E$16/E9*$J$7 -> 30
B10: =Summary!E7 -> BID 2 | E10: 2200000 | I10: =+$E$16/E10*$J$7 -> 23.181818
B11: =Summary!G7 -> BID 3 | E11: 2200000 | I11: =+$E$16/E11*$J$7 -> 23.181818
B12: =Summary!I7 -> BID 4 | E12: 2200000 | I12: =+$E$16/E12*$J$7 -> 23.181818
B13: =Summary!K7 -> BID 5 | E13: 2200000 | I13: =+$E$16/E13*$J$7 -> 23.181818
B14: =Summary!M7 -> BID 6 | E14: 1900000 | I14: =+$E$16/E14*$J$7 -> 26.842105
E16: =MIN(E9:E15) -> 1700000
B18: Purpose: Lowest figure receives highest score of 30 marks, other scores are pro-rata.

Sheet Feedback (Basic)
B5: Please use this template within a letter to successful and unsuccessful contractors to inform
B6: them of their relative position.
B8: Please note that all feedback is given on a 'without prejudice' basis.
B10: Bidder | C10: Contractor | D10: Quality | E10: Social Value | F10: Low Carbon | G10: Commercial | H10: Overall | I10: Position
B11: =+Summary!C7 -> BID 1 | C11: =+'BID 1'!E$4 -> 1 | D11: =+'Weighted Qual Scores'!J6 -> 34.285714 | E11: =+'Weighted Qual Scores'!J17 -> 17.142857 | F11: =+'Weighted Qual Scores'!J28 -> 8.5714286 | G11: =+'Weighted Comm Scores'!I9 -> 30 | H11: =SUM(D11:G11) -> 90 | I11: =RANK(H11,H$11:H$16,0) -> 2
B12: =+Summary!E7 -> BID 2 | C12: =+'BID 2'!E$4 -> 2 | D12: =+'Weighted Qual Scores'!J7 -> 40 | E12: =+'Weighted Qual Scores'!J18 -> 20 | F12: =+'Weighted Qual Scores'!J29 -> 10 | G12: =+'Weighted Comm Scores'!I10 -> 23.181818 | H12: =SUM(D12:G12) -> 93.181818 | I12: =RANK(H12,H$11:H$16,0) -> 1
B13: =+Summary!G7 -> BID 3 | C13: =+'BID 3'!E$4 -> 3 | D13: =+'Weighted Qual Scores'!J8 -> 17.142857 | E13: =+'Weighted Qual Scores'!J19 -> 8.5714286 | F13: =+'Weighted Qual Scores'!J30 -> 4.2857143 | G13: =+'Weighted Comm Scores'!I11 -> 23.181818 | H13: =SUM(D13:G13) -> 53.181818 | I13: =RANK(H13,H$11:H$16,0) -> 4
B14: =+Summary!I7 -> BID 4 | C14: =+'BID 4'!E$4 -> 4 | D14: =+'Weighted Qual Scores'!J9 -> 7.4285714 | E14: =+'Weighted Qual Scores'!J20 -> 11.428571 | F14: =+'Weighted Qual Scores'!J31 -> 5.7142857 | G14: =+'Weighted Comm Scores'!I12 -> 23.181818 | H14: =SUM(D14:G14) -> 47.753247 | I14: =RANK(H14,H$11:H$16,0) -> 6
B15: =+Summary!K7 -> BID 5 | C15: =+'BID 5'!E$4 -> 5 | D15: =+'Weighted Qual Scores'!J10 -> 8 | E15: =+'Weighted Qual Scores'!J21 -> 14.285714 | F15: =+'Weighted Qual Scores'!J32 -> 7.1428571 | G15: =+'Weighted Comm Scores'!I13 -> 23.181818 | H15: =SUM(D15:G15) -> 52.61039 | I15: =RANK(H15,H$11:H$16,0) -> 5
B16: =+Summary!M7 -> BID 6 | C16: =+'BID 6'!E$4 -> 6 | D16: =+'Weighted Qual Scores'!J11 -> 8.5714286 | E16: =+'Weighted Qual Scores'!J22 -> 17.142857 | F16: =+'Weighted Qual Scores'!J33 -> 8.5714286 | G16: =+'Weighted Comm Scores'!I14 -> 26.842105 | H16: =SUM(D16:G16) -> 61.12782 | I16: =RANK(H16,H$11:H$16,0) -> 3
C18: For the purpose of this scoring exercise you are contractor X.

Sheet Completion Report
B1: Mini Competition Process Completion Report
B2: MCC Notes: To be completed by PM and submitted to NWCH Framework Manager for quality check, this should be before approval being sought from the relevant 'authority' to proceed with the formal appointment. Other Clients may use the template to support their own internal QA processes.
A5: Name of Project: | B5: Varley Street SEND School
A6: Value: | B6: 18000000
A7: Framework used, Lot number, CO or D&C: | B7: NWCH Framework lot 1
A8: EOI issued date | B8: 44855
A9: EOI's positive responses received: | B9: ISG, Kier & Wates
A10: Date of Mini Competition Returns: | B10: 44886
A11: Returns received from: | B11: ISG, Kier & Wates
A12: Withdrawals: | B12: N/A
A13: Mini-Competition Scoring Panel Members: | B13: Luca Quiligotti, Mick McManus, Barney Harle
A14: Interviews took place on: | B14: TBA
A15: Present at the interviews were: | B15: TBA
A16: Name of Contractor proposed for appointment | B16: TBA
A17: Completed & signed Mini Competiton scoring matrix: | B17: See following sheets
A18: Copy of Report seeking approval to proceed with contractor appointment: | B18: [ To be attached with this completed form ]
A19: Award Notice Drafted: | B19: No
A20: Contractor Feedback Meeting Scheduled: | B20: TBA
A21: Submitted to NWCH team by:
A22: Date:
A23: Confirmation NWCH mini-competition has been completed in appropriate fashion | B23: Yes
A24: Confirmed by: | B24: [ NWCH Team ]
A25: Date
A26: ( If 'NO' state reasons why / what is required ) | B26: [ NWCH Team to forward to Compliance Team Inbox or return to non-MCC CLient ]
A27: Award notice drafted: | B27: Yes/No [ delete as appropriate ]
A28: Feedback meeting scheduled for: | B28: [ date ]
A29: Authorisation - e.g. Head of Delivery / Compliance etc
A30: If submitted as a print-out please include a copy of the summary report.

Sheet 1 Page Relative Feedback
A1: This alternative version of the feedback page does not automatically populate
A2: Please use this template within a letter to successful and unsuccessful contractors to inform
A3: each of them of their relative position. Quality score is out of 70, Commercial score out of 30
A5: Please note that all feedback is given on a 'without prejudice' basis.
A7: Contractor | B7: Quality | C7: Commercial | D7: Overall | E7: Position
A8: A | D8: =B8+C8 -> 0
A9: B | D9: =B9+C9 -> 0
A10: C | D10: =B10+C10 -> 0
A12: For the purpose of this scoring exercise you are contractor 'X'
